BEGIN:VCALENDAR
VERSION:2.0
PRODID:-//communityofcarend.com//NONSGML kigkonsult.se iCalcreator 2.30.10/
 /
CALSCALE:GREGORIAN
METHOD:PUBLISH
UID:0918126c-5b86-4c7c-80e3-b7bd16f4fda2
X-WR-CALDESC:Bone Builder Exercise Class
X-WR-RELCALID:92fb43a2ae5ded6ee62dc3f137044c41
X-WR-TIMEZONE:America/Chicago
BEGIN:VTIMEZONE
TZID:America/Chicago
BEGIN:STANDARD
TZNAME:CST
DTSTART:20261101T020000
TZOFFSETFROM:-0500
TZOFFSETTO:-0600
RDATE:20271107T020000
END:STANDARD
BEGIN:DAYLIGHT
TZNAME:CDT
DTSTART:20260308T020000
TZOFFSETFROM:-0600
TZOFFSETTO:-0500
RDATE:20270314T020000
RDATE:20280312T020000
END:DAYLIGHT
END:VTIMEZONE
BEGIN:VEVENT
UID:f2be4c5c-097f-461a-8b0d-daccff676c99
DTSTAMP:20260419T233133Z
DESCRIPTION:Bone Builder Exercise Class
DTSTART;TZID=America/Chicago:20261116T100000
DTEND;TZID=America/Chicago:20261116T110000
LOCATION:Horace Senior Center
SUMMARY:Horace Bone Builders
END:VEVENT
END:VCALENDAR
