BEGIN:VCALENDAR
VERSION:2.0
PRODID:-//communityofcarend.com//NONSGML kigkonsult.se iCalcreator 2.30.10/
 /
CALSCALE:GREGORIAN
METHOD:PUBLISH
UID:218d6348-d566-4d09-9ab8-34fcbd23d725
X-WR-CALDESC:Low-impact exercise classes.
X-WR-RELCALID:86675aa5f890a303ef9f6407653e0bfc
X-WR-TIMEZONE:America/Chicago
BEGIN:VTIMEZONE
TZID:America/Chicago
BEGIN:STANDARD
TZNAME:CST
DTSTART:20261101T020000
TZOFFSETFROM:-0500
TZOFFSETTO:-0600
RDATE:20271107T020000
END:STANDARD
BEGIN:DAYLIGHT
TZNAME:CDT
DTSTART:20260308T020000
TZOFFSETFROM:-0600
TZOFFSETTO:-0500
RDATE:20270314T020000
RDATE:20280312T020000
END:DAYLIGHT
END:VTIMEZONE
BEGIN:VEVENT
UID:b3eec86c-75d6-48d1-86be-053e7a43a685
DTSTAMP:20260419T233024Z
DESCRIPTION:Low-impact exercise classes.
DTSTART;TZID=America/Chicago:20261106T103000
DTEND;TZID=America/Chicago:20261106T113000
LOCATION:Kindred City Hall
SUMMARY:Kindred Bone Builders
END:VEVENT
END:VCALENDAR
