BEGIN:VCALENDAR
VERSION:2.0
PRODID:-//communityofcarend.com//NONSGML kigkonsult.se iCalcreator 2.30.10/
 /
CALSCALE:GREGORIAN
METHOD:PUBLISH
UID:7bc5cff9-7aa1-4a9e-adc3-bb461c1aed3a
X-WR-CALDESC:Low-impact exercise classes.
X-WR-RELCALID:445895008e7e31687f127aa518db1284
X-WR-TIMEZONE:America/Chicago
BEGIN:VTIMEZONE
TZID:America/Chicago
BEGIN:STANDARD
TZNAME:CST
DTSTART:20251102T020000
TZOFFSETFROM:-0500
TZOFFSETTO:-0600
RDATE:20261101T020000
RDATE:20271107T020000
END:STANDARD
BEGIN:DAYLIGHT
TZNAME:CDT
DTSTART:20260308T020000
TZOFFSETFROM:-0600
TZOFFSETTO:-0500
RDATE:20270314T020000
RDATE:20280312T020000
END:DAYLIGHT
END:VTIMEZONE
BEGIN:VEVENT
UID:b6799d06-eef2-4124-b8e8-c682e36fb21a
DTSTAMP:20260419T220450Z
DESCRIPTION:Low-impact exercise classes.
DTSTART;TZID=America/Chicago:20261030T103000
DTEND;TZID=America/Chicago:20261030T113000
LOCATION:Kindred City Hall
SUMMARY:Kindred Bone Builders
END:VEVENT
END:VCALENDAR
