BEGIN:VCALENDAR
VERSION:2.0
PRODID:-//communityofcarend.com//NONSGML kigkonsult.se iCalcreator 2.30.10/
 /
CALSCALE:GREGORIAN
METHOD:PUBLISH
UID:a42ce2f1-51ba-4b9e-a6c1-a4ddc8174434
X-WR-CALDESC:Bone Builder Exercise Class
X-WR-RELCALID:0e3c9b34380a00dbabbcbdd3f03b6602
X-WR-TIMEZONE:America/Chicago
BEGIN:VTIMEZONE
TZID:America/Chicago
BEGIN:STANDARD
TZNAME:CST
DTSTART:20251102T020000
TZOFFSETFROM:-0500
TZOFFSETTO:-0600
RDATE:20261101T020000
RDATE:20271107T020000
END:STANDARD
BEGIN:DAYLIGHT
TZNAME:CDT
DTSTART:20260308T020000
TZOFFSETFROM:-0600
TZOFFSETTO:-0500
RDATE:20270314T020000
RDATE:20280312T020000
END:DAYLIGHT
END:VTIMEZONE
BEGIN:VEVENT
UID:7ac7119d-c964-4f17-a0fe-1d8db9600280
DTSTAMP:20260419T220532Z
DESCRIPTION:Bone Builder Exercise Class
DTSTART;TZID=America/Chicago:20261029T100000
DTEND;TZID=America/Chicago:20261029T110000
LOCATION:Horace Senior Center
SUMMARY:Horace Bone Builders
END:VEVENT
END:VCALENDAR
