BEGIN:VCALENDAR
VERSION:2.0
PRODID:-//communityofcarend.com//NONSGML kigkonsult.se iCalcreator 2.30.10/
 /
CALSCALE:GREGORIAN
METHOD:PUBLISH
UID:db8d296b-1158-4d8c-a3e7-29bf06d55dbf
X-WR-CALDESC:Bone Builder Exercise Class
X-WR-RELCALID:be863d94a6bd94f562b2f00606baebea
X-WR-TIMEZONE:America/Chicago
BEGIN:VTIMEZONE
TZID:America/Chicago
BEGIN:STANDARD
TZNAME:CST
DTSTART:20251102T020000
TZOFFSETFROM:-0500
TZOFFSETTO:-0600
RDATE:20261101T020000
RDATE:20271107T020000
END:STANDARD
BEGIN:DAYLIGHT
TZNAME:CDT
DTSTART:20260308T020000
TZOFFSETFROM:-0600
TZOFFSETTO:-0500
RDATE:20270314T020000
RDATE:20280312T020000
END:DAYLIGHT
END:VTIMEZONE
BEGIN:VEVENT
UID:27aafd64-77c6-498d-a480-a1501094c81a
DTSTAMP:20260419T203957Z
DESCRIPTION:Bone Builder Exercise Class
DTSTART;TZID=America/Chicago:20260928T100000
DTEND;TZID=America/Chicago:20260928T110000
LOCATION:Horace Senior Center
SUMMARY:Horace Bone Builders
END:VEVENT
END:VCALENDAR
