BEGIN:VCALENDAR
VERSION:2.0
PRODID:-//communityofcarend.com//NONSGML kigkonsult.se iCalcreator 2.30.10/
 /
CALSCALE:GREGORIAN
METHOD:PUBLISH
UID:3005f8c8-0a21-4e02-9a63-bfccf5edd030
X-WR-CALDESC:Low-impact exercise classes.
X-WR-RELCALID:760876b8fd472ad5c84a00adc98d4320
X-WR-TIMEZONE:America/Chicago
BEGIN:VTIMEZONE
TZID:America/Chicago
BEGIN:STANDARD
TZNAME:CST
DTSTART:20251102T020000
TZOFFSETFROM:-0500
TZOFFSETTO:-0600
RDATE:20261101T020000
RDATE:20271107T020000
END:STANDARD
BEGIN:DAYLIGHT
TZNAME:CDT
DTSTART:20260308T020000
TZOFFSETFROM:-0600
TZOFFSETTO:-0500
RDATE:20270314T020000
RDATE:20280312T020000
END:DAYLIGHT
END:VTIMEZONE
BEGIN:VEVENT
UID:9958be8d-c733-4f82-8cce-76bdb8257285
DTSTAMP:20260419T203926Z
DESCRIPTION:Low-impact exercise classes.
DTSTART;TZID=America/Chicago:20260925T103000
DTEND;TZID=America/Chicago:20260925T113000
LOCATION:Kindred City Hall
SUMMARY:Kindred Bone Builders
END:VEVENT
END:VCALENDAR
