BEGIN:VCALENDAR
VERSION:2.0
PRODID:-//communityofcarend.com//NONSGML kigkonsult.se iCalcreator 2.30.10/
 /
CALSCALE:GREGORIAN
METHOD:PUBLISH
UID:8abb52dc-4ac5-4f94-82f5-d8c10ed3d757
X-WR-CALDESC:Low-impact exercise classes.
X-WR-RELCALID:75935bd107229fd803cb473fe0d20ccf
X-WR-TIMEZONE:America/Chicago
BEGIN:VTIMEZONE
TZID:America/Chicago
BEGIN:STANDARD
TZNAME:CST
DTSTART:20251102T020000
TZOFFSETFROM:-0500
TZOFFSETTO:-0600
RDATE:20261101T020000
RDATE:20271107T020000
END:STANDARD
BEGIN:DAYLIGHT
TZNAME:CDT
DTSTART:20260308T020000
TZOFFSETFROM:-0600
TZOFFSETTO:-0500
RDATE:20270314T020000
END:DAYLIGHT
END:VTIMEZONE
BEGIN:VEVENT
UID:82ca4fee-b335-4e9e-a76b-69e6cf7da38e
DTSTAMP:20260419T203803Z
DESCRIPTION:Low-impact exercise classes.
DTSTART;TZID=America/Chicago:20260904T103000
DTEND;TZID=America/Chicago:20260904T113000
LOCATION:Kindred City Hall
SUMMARY:Kindred Bone Builders
END:VEVENT
END:VCALENDAR
