BEGIN:VCALENDAR
VERSION:2.0
PRODID:-//communityofcarend.com//NONSGML kigkonsult.se iCalcreator 2.30.10/
 /
CALSCALE:GREGORIAN
METHOD:PUBLISH
UID:4457a325-1ab4-4f3e-b7a9-e83297dd2e4e
X-WR-CALDESC:Low impact exercise class
X-WR-RELCALID:70e943d5739b9231dbb6a7916eb8781c
X-WR-TIMEZONE:America/Chicago
BEGIN:VTIMEZONE
TZID:America/Chicago
BEGIN:STANDARD
TZNAME:CST
DTSTART:20251102T020000
TZOFFSETFROM:-0500
TZOFFSETTO:-0600
RDATE:20261101T020000
RDATE:20271107T020000
END:STANDARD
BEGIN:DAYLIGHT
TZNAME:CDT
DTSTART:20260308T020000
TZOFFSETFROM:-0600
TZOFFSETTO:-0500
RDATE:20270314T020000
END:DAYLIGHT
END:VTIMEZONE
BEGIN:VEVENT
UID:115486e9-b610-4069-b08e-1095be55fb10
DTSTAMP:20260419T190454Z
DESCRIPTION:Low impact exercise class
DTSTART;TZID=America/Chicago:20260831T103000
DTEND;TZID=America/Chicago:20260831T113000
LOCATION:Kindred City Hall
SUMMARY:Kindred Bone Builders
END:VEVENT
END:VCALENDAR
