BEGIN:VCALENDAR
VERSION:2.0
PRODID:-//communityofcarend.com//NONSGML kigkonsult.se iCalcreator 2.30.10/
 /
CALSCALE:GREGORIAN
METHOD:PUBLISH
UID:98f6df18-b828-4164-a0bd-178120280bf9
X-WR-CALDESC:Low-impact exercise classes.
X-WR-RELCALID:1a92ce6da7ebcdc8a1679d7f53c9a899
X-WR-TIMEZONE:America/Chicago
BEGIN:VTIMEZONE
TZID:America/Chicago
BEGIN:STANDARD
TZNAME:CST
DTSTART:20251102T020000
TZOFFSETFROM:-0500
TZOFFSETTO:-0600
RDATE:20261101T020000
RDATE:20271107T020000
END:STANDARD
BEGIN:DAYLIGHT
TZNAME:CDT
DTSTART:20260308T020000
TZOFFSETFROM:-0600
TZOFFSETTO:-0500
RDATE:20270314T020000
END:DAYLIGHT
END:VTIMEZONE
BEGIN:VEVENT
UID:b19171e6-ce0c-4d78-b9f5-db6e332b248a
DTSTAMP:20260419T190119Z
DESCRIPTION:Low-impact exercise classes.
DTSTART;TZID=America/Chicago:20260821T103000
DTEND;TZID=America/Chicago:20260821T113000
LOCATION:Kindred City Hall
SUMMARY:Kindred Bone Builders
END:VEVENT
END:VCALENDAR
