BEGIN:VCALENDAR
VERSION:2.0
PRODID:-//communityofcarend.com//NONSGML kigkonsult.se iCalcreator 2.30.10/
 /
CALSCALE:GREGORIAN
METHOD:PUBLISH
UID:ebc1a6d5-ea61-4b53-acf5-93649cf2de0d
X-WR-CALDESC:Bone Builder Exercise Class
X-WR-RELCALID:9d6ce067ac5d17d65240526b456aad3e
X-WR-TIMEZONE:America/Chicago
BEGIN:VTIMEZONE
TZID:America/Chicago
BEGIN:STANDARD
TZNAME:CST
DTSTART:20251102T020000
TZOFFSETFROM:-0500
TZOFFSETTO:-0600
RDATE:20261101T020000
RDATE:20271107T020000
END:STANDARD
BEGIN:DAYLIGHT
TZNAME:CDT
DTSTART:20260308T020000
TZOFFSETFROM:-0600
TZOFFSETTO:-0500
RDATE:20270314T020000
END:DAYLIGHT
END:VTIMEZONE
BEGIN:VEVENT
UID:f92e4d6c-bef3-4878-8346-e654ff36780d
DTSTAMP:20260419T190402Z
DESCRIPTION:Bone Builder Exercise Class
DTSTART;TZID=America/Chicago:20260810T100000
DTEND;TZID=America/Chicago:20260810T110000
LOCATION:Horace Senior Center
SUMMARY:Horace Bone Builders
END:VEVENT
END:VCALENDAR
