BEGIN:VCALENDAR
VERSION:2.0
PRODID:-//communityofcarend.com//NONSGML kigkonsult.se iCalcreator 2.30.10/
 /
CALSCALE:GREGORIAN
METHOD:PUBLISH
UID:b25a8991-b68c-43c3-91cd-52cb0452a5a5
X-WR-CALDESC:Low-impact exercise classes.
X-WR-RELCALID:277cd8f6b78d80ebf12122e05787c231
X-WR-TIMEZONE:America/Chicago
BEGIN:VTIMEZONE
TZID:America/Chicago
BEGIN:STANDARD
TZNAME:CST
DTSTART:20251102T020000
TZOFFSETFROM:-0500
TZOFFSETTO:-0600
RDATE:20261101T020000
RDATE:20271107T020000
END:STANDARD
BEGIN:DAYLIGHT
TZNAME:CDT
DTSTART:20260308T020000
TZOFFSETFROM:-0600
TZOFFSETTO:-0500
RDATE:20270314T020000
END:DAYLIGHT
END:VTIMEZONE
BEGIN:VEVENT
UID:e2bd0e8b-da4f-4c7a-9a35-07fe7a9be814
DTSTAMP:20260419T190258Z
DESCRIPTION:Low-impact exercise classes.
DTSTART;TZID=America/Chicago:20260807T103000
DTEND;TZID=America/Chicago:20260807T113000
LOCATION:Kindred City Hall
SUMMARY:Kindred Bone Builders
END:VEVENT
END:VCALENDAR
