BEGIN:VCALENDAR
VERSION:2.0
PRODID:-//communityofcarend.com//NONSGML kigkonsult.se iCalcreator 2.30.10/
 /
CALSCALE:GREGORIAN
METHOD:PUBLISH
UID:f7866bee-2776-412e-a9b1-e4c64b43d320
X-WR-CALDESC:Low impact exercise class
X-WR-RELCALID:3c7560fda0f1c7a32205b4a6a11e0e65
X-WR-TIMEZONE:America/Chicago
BEGIN:VTIMEZONE
TZID:America/Chicago
BEGIN:STANDARD
TZNAME:CST
DTSTART:20251102T020000
TZOFFSETFROM:-0500
TZOFFSETTO:-0600
RDATE:20261101T020000
RDATE:20271107T020000
END:STANDARD
BEGIN:DAYLIGHT
TZNAME:CDT
DTSTART:20260308T020000
TZOFFSETFROM:-0600
TZOFFSETTO:-0500
RDATE:20270314T020000
END:DAYLIGHT
END:VTIMEZONE
BEGIN:VEVENT
UID:207a6e58-7f48-40d9-a96b-6c62eb7c7c0e
DTSTAMP:20260419T190218Z
DESCRIPTION:Low impact exercise class
DTSTART;TZID=America/Chicago:20260803T103000
DTEND;TZID=America/Chicago:20260803T113000
LOCATION:Kindred City Hall
SUMMARY:Kindred Bone Builders
END:VEVENT
END:VCALENDAR
