BEGIN:VCALENDAR
VERSION:2.0
PRODID:-//communityofcarend.com//NONSGML kigkonsult.se iCalcreator 2.30.10/
 /
CALSCALE:GREGORIAN
METHOD:PUBLISH
UID:60406344-cdb8-4cdc-82b4-1b264d47584c
X-WR-CALDESC:Low impact exercise class
X-WR-RELCALID:8097bd39a683ad00159cbeb24b1c11a3
X-WR-TIMEZONE:America/Chicago
BEGIN:VTIMEZONE
TZID:America/Chicago
BEGIN:STANDARD
TZNAME:CST
DTSTART:20251102T020000
TZOFFSETFROM:-0500
TZOFFSETTO:-0600
RDATE:20261101T020000
RDATE:20271107T020000
END:STANDARD
BEGIN:DAYLIGHT
TZNAME:CDT
DTSTART:20260308T020000
TZOFFSETFROM:-0600
TZOFFSETTO:-0500
RDATE:20270314T020000
END:DAYLIGHT
END:VTIMEZONE
BEGIN:VEVENT
UID:2affe1cd-e420-4a85-85d1-27b0f40d24ec
DTSTAMP:20260419T171412Z
DESCRIPTION:Low impact exercise class
DTSTART;TZID=America/Chicago:20260713T103000
DTEND;TZID=America/Chicago:20260713T113000
LOCATION:Kindred City Hall
SUMMARY:Kindred Bone Builders
END:VEVENT
END:VCALENDAR
