BEGIN:VCALENDAR
VERSION:2.0
PRODID:-//communityofcarend.com//NONSGML kigkonsult.se iCalcreator 2.30.10/
 /
CALSCALE:GREGORIAN
METHOD:PUBLISH
UID:cc15dd52-1226-4e0c-a0cb-e54087a0ace7
X-WR-CALDESC:Low-impact exercise classes.
X-WR-RELCALID:42c9c999e877b9957fbdb2ee9526fd48
X-WR-TIMEZONE:America/Chicago
BEGIN:VTIMEZONE
TZID:America/Chicago
BEGIN:STANDARD
TZNAME:CST
DTSTART:20251102T020000
TZOFFSETFROM:-0500
TZOFFSETTO:-0600
RDATE:20261101T020000
RDATE:20271107T020000
END:STANDARD
BEGIN:DAYLIGHT
TZNAME:CDT
DTSTART:20260308T020000
TZOFFSETFROM:-0600
TZOFFSETTO:-0500
RDATE:20270314T020000
END:DAYLIGHT
END:VTIMEZONE
BEGIN:VEVENT
UID:28ebc05e-ba2a-400b-9d5a-c6f435c0595c
DTSTAMP:20260419T173152Z
DESCRIPTION:Low-impact exercise classes.
DTSTART;TZID=America/Chicago:20260710T103000
DTEND;TZID=America/Chicago:20260710T113000
LOCATION:Kindred City Hall
SUMMARY:Kindred Bone Builders
END:VEVENT
END:VCALENDAR
