BEGIN:VCALENDAR
VERSION:2.0
PRODID:-//communityofcarend.com//NONSGML kigkonsult.se iCalcreator 2.30.10/
 /
CALSCALE:GREGORIAN
METHOD:PUBLISH
UID:00f3d4d7-1479-474e-98b9-a8f80a63f0d1
X-WR-CALDESC:Low impact exercise class
X-WR-RELCALID:bcbe1d4a31520f40b5f3371d3888f7b8
X-WR-TIMEZONE:America/Chicago
BEGIN:VTIMEZONE
TZID:America/Chicago
BEGIN:STANDARD
TZNAME:CST
DTSTART:20251102T020000
TZOFFSETFROM:-0500
TZOFFSETTO:-0600
RDATE:20261101T020000
RDATE:20271107T020000
END:STANDARD
BEGIN:DAYLIGHT
TZNAME:CDT
DTSTART:20260308T020000
TZOFFSETFROM:-0600
TZOFFSETTO:-0500
RDATE:20270314T020000
END:DAYLIGHT
END:VTIMEZONE
BEGIN:VEVENT
UID:5202ed57-f6eb-48d7-9dde-e542be509043
DTSTAMP:20260419T173128Z
DESCRIPTION:Low impact exercise class
DTSTART;TZID=America/Chicago:20260706T103000
DTEND;TZID=America/Chicago:20260706T113000
LOCATION:Kindred City Hall
SUMMARY:Kindred Bone Builders
END:VEVENT
END:VCALENDAR
