BEGIN:VCALENDAR
VERSION:2.0
PRODID:-//communityofcarend.com//NONSGML kigkonsult.se iCalcreator 2.30.10/
 /
CALSCALE:GREGORIAN
METHOD:PUBLISH
UID:ec55f25b-32df-447f-8a4b-1c54cb03141d
X-WR-CALDESC:Low-impact exercise classes.
X-WR-RELCALID:a1fbbac4a5b17a71fc459f5f17741b97
X-WR-TIMEZONE:America/Chicago
BEGIN:VTIMEZONE
TZID:America/Chicago
BEGIN:STANDARD
TZNAME:CST
DTSTART:20251102T020000
TZOFFSETFROM:-0500
TZOFFSETTO:-0600
RDATE:20261101T020000
RDATE:20271107T020000
END:STANDARD
BEGIN:DAYLIGHT
TZNAME:CDT
DTSTART:20260308T020000
TZOFFSETFROM:-0600
TZOFFSETTO:-0500
RDATE:20270314T020000
END:DAYLIGHT
END:VTIMEZONE
BEGIN:VEVENT
UID:a9989888-9be8-4391-83e9-c19bc0225f9b
DTSTAMP:20260419T173127Z
DESCRIPTION:Low-impact exercise classes.
DTSTART;TZID=America/Chicago:20260703T103000
DTEND;TZID=America/Chicago:20260703T113000
LOCATION:Kindred City Hall
SUMMARY:Kindred Bone Builders
END:VEVENT
END:VCALENDAR
