BEGIN:VCALENDAR
VERSION:2.0
PRODID:-//communityofcarend.com//NONSGML kigkonsult.se iCalcreator 2.30.10/
 /
CALSCALE:GREGORIAN
METHOD:PUBLISH
UID:0b6b89f4-24e6-4075-8a5b-5a3f82d6c3d2
X-WR-CALDESC:Low-impact exercise classes.
X-WR-RELCALID:842afe3fdb92a569af975e58fc588293
X-WR-TIMEZONE:America/Chicago
BEGIN:VTIMEZONE
TZID:America/Chicago
BEGIN:STANDARD
TZNAME:CST
DTSTART:20251102T020000
TZOFFSETFROM:-0500
TZOFFSETTO:-0600
RDATE:20261101T020000
RDATE:20271107T020000
END:STANDARD
BEGIN:DAYLIGHT
TZNAME:CDT
DTSTART:20260308T020000
TZOFFSETFROM:-0600
TZOFFSETTO:-0500
RDATE:20270314T020000
END:DAYLIGHT
END:VTIMEZONE
BEGIN:VEVENT
UID:3808df11-0921-49f1-9916-5926abba73dd
DTSTAMP:20260419T155217Z
DESCRIPTION:Low-impact exercise classes.
DTSTART;TZID=America/Chicago:20260626T103000
DTEND;TZID=America/Chicago:20260626T113000
LOCATION:Kindred City Hall
SUMMARY:Kindred Bone Builders
END:VEVENT
END:VCALENDAR
