BEGIN:VCALENDAR
VERSION:2.0
PRODID:-//communityofcarend.com//NONSGML kigkonsult.se iCalcreator 2.30.10/
 /
CALSCALE:GREGORIAN
METHOD:PUBLISH
UID:958e680a-f946-4a51-a48f-dd1ab10e2d59
X-WR-CALDESC:Bone Builder Exercise Class
X-WR-RELCALID:b73ccaed6a5d182b0a8b4da78d5d1c7e
X-WR-TIMEZONE:America/Chicago
BEGIN:VTIMEZONE
TZID:America/Chicago
BEGIN:STANDARD
TZNAME:CST
DTSTART:20251102T020000
TZOFFSETFROM:-0500
TZOFFSETTO:-0600
RDATE:20261101T020000
RDATE:20271107T020000
END:STANDARD
BEGIN:DAYLIGHT
TZNAME:CDT
DTSTART:20260308T020000
TZOFFSETFROM:-0600
TZOFFSETTO:-0500
RDATE:20270314T020000
END:DAYLIGHT
END:VTIMEZONE
BEGIN:VEVENT
UID:a142310c-a84f-4a4c-a03e-d1841876dfa0
DTSTAMP:20260419T155438Z
DESCRIPTION:Bone Builder Exercise Class
DTSTART;TZID=America/Chicago:20260618T100000
DTEND;TZID=America/Chicago:20260618T110000
LOCATION:Horace Senior Center
SUMMARY:Horace Bone Builders
END:VEVENT
END:VCALENDAR
