BEGIN:VCALENDAR
VERSION:2.0
PRODID:-//communityofcarend.com//NONSGML kigkonsult.se iCalcreator 2.30.10/
 /
CALSCALE:GREGORIAN
METHOD:PUBLISH
UID:c7c52cb0-f6b1-44f7-b094-3e17fb94738f
X-WR-CALDESC:
X-WR-RELCALID:c560c6335d4cc3d80134c0612d3236db
X-WR-TIMEZONE:America/Chicago
BEGIN:VTIMEZONE
TZID:America/Chicago
BEGIN:STANDARD
TZNAME:CST
DTSTART:20251102T020000
TZOFFSETFROM:-0500
TZOFFSETTO:-0600
RDATE:20261101T020000
RDATE:20271107T020000
END:STANDARD
BEGIN:DAYLIGHT
TZNAME:CDT
DTSTART:20260308T020000
TZOFFSETFROM:-0600
TZOFFSETTO:-0500
RDATE:20270314T020000
END:DAYLIGHT
END:VTIMEZONE
BEGIN:VEVENT
UID:9decfc34-abfb-4853-b274-10a30e69b546
DTSTAMP:20260419T155054Z
DESCRIPTION:
DTSTART;TZID=America/Chicago:20260618T094500
DTEND;TZID=America/Chicago:20260618T104500
LOCATION:Arthur United Methodist Church
SUMMARY:Arthur Bone Builders
END:VEVENT
END:VCALENDAR
