BEGIN:VCALENDAR
VERSION:2.0
PRODID:-//communityofcarend.com//NONSGML kigkonsult.se iCalcreator 2.30.10/
 /
CALSCALE:GREGORIAN
METHOD:PUBLISH
UID:f14200a6-1271-4610-a996-69230dfdb531
X-WR-CALDESC:Low impact exercise class
X-WR-RELCALID:aca04f712aa8d742170ec2f242617875
X-WR-TIMEZONE:America/Chicago
BEGIN:VTIMEZONE
TZID:America/Chicago
BEGIN:STANDARD
TZNAME:CST
DTSTART:20251102T020000
TZOFFSETFROM:-0500
TZOFFSETTO:-0600
RDATE:20261101T020000
RDATE:20271107T020000
END:STANDARD
BEGIN:DAYLIGHT
TZNAME:CDT
DTSTART:20260308T020000
TZOFFSETFROM:-0600
TZOFFSETTO:-0500
RDATE:20270314T020000
END:DAYLIGHT
END:VTIMEZONE
BEGIN:VEVENT
UID:bc6d2bb7-fcc0-4ff9-956e-81d504c9c0d7
DTSTAMP:20260419T155201Z
DESCRIPTION:Low impact exercise class
DTSTART;TZID=America/Chicago:20260608T103000
DTEND;TZID=America/Chicago:20260608T113000
LOCATION:Kindred City Hall
SUMMARY:Kindred Bone Builders
END:VEVENT
END:VCALENDAR
