BEGIN:VCALENDAR
VERSION:2.0
PRODID:-//communityofcarend.com//NONSGML kigkonsult.se iCalcreator 2.30.10/
 /
CALSCALE:GREGORIAN
METHOD:PUBLISH
UID:b7d54d0a-c267-4cb9-bf2c-cd0bf49bd031
X-WR-CALDESC:Low-impact exercise classes.
X-WR-RELCALID:5572507943e7868da45a60bca390f902
X-WR-TIMEZONE:America/Chicago
BEGIN:VTIMEZONE
TZID:America/Chicago
BEGIN:STANDARD
TZNAME:CST
DTSTART:20251102T020000
TZOFFSETFROM:-0500
TZOFFSETTO:-0600
RDATE:20261101T020000
RDATE:20271107T020000
END:STANDARD
BEGIN:DAYLIGHT
TZNAME:CDT
DTSTART:20260308T020000
TZOFFSETFROM:-0600
TZOFFSETTO:-0500
RDATE:20270314T020000
END:DAYLIGHT
END:VTIMEZONE
BEGIN:VEVENT
UID:662510d1-9fed-4aed-b66c-534c63a84cae
DTSTAMP:20260419T160658Z
DESCRIPTION:Low-impact exercise classes.
DTSTART;TZID=America/Chicago:20260605T103000
DTEND;TZID=America/Chicago:20260605T113000
LOCATION:Kindred City Hall
SUMMARY:Kindred Bone Builders
END:VEVENT
END:VCALENDAR
