BEGIN:VCALENDAR
VERSION:2.0
PRODID:-//communityofcarend.com//NONSGML kigkonsult.se iCalcreator 2.30.10/
 /
CALSCALE:GREGORIAN
METHOD:PUBLISH
UID:a0d7f47b-654a-4299-a5d1-efb3494ae802
X-WR-CALDESC:Bone Builder Exercise Class
X-WR-RELCALID:63066e6a945e4de6723c845e5cd568f6
X-WR-TIMEZONE:America/Chicago
BEGIN:VTIMEZONE
TZID:America/Chicago
BEGIN:STANDARD
TZNAME:CST
DTSTART:20251102T020000
TZOFFSETFROM:-0500
TZOFFSETTO:-0600
RDATE:20261101T020000
RDATE:20271107T020000
END:STANDARD
BEGIN:DAYLIGHT
TZNAME:CDT
DTSTART:20260308T020000
TZOFFSETFROM:-0600
TZOFFSETTO:-0500
RDATE:20270314T020000
END:DAYLIGHT
END:VTIMEZONE
BEGIN:VEVENT
UID:277eec8a-40ae-4cfc-82be-1880d724939a
DTSTAMP:20260419T160846Z
DESCRIPTION:Bone Builder Exercise Class
DTSTART;TZID=America/Chicago:20260601T100000
DTEND;TZID=America/Chicago:20260601T110000
LOCATION:Horace Senior Center
SUMMARY:Horace Bone Builders
END:VEVENT
END:VCALENDAR
