BEGIN:VCALENDAR
VERSION:2.0
PRODID:-//communityofcarend.com//NONSGML kigkonsult.se iCalcreator 2.30.10/
 /
CALSCALE:GREGORIAN
METHOD:PUBLISH
UID:b9668530-81ea-4ddc-a72a-f50cc948738f
X-WR-CALDESC:Low-impact exercise classes.
X-WR-RELCALID:1305e1f5ae682a6ec7137a11b597b9f0
X-WR-TIMEZONE:America/Chicago
BEGIN:VTIMEZONE
TZID:America/Chicago
BEGIN:STANDARD
TZNAME:CST
DTSTART:20251102T020000
TZOFFSETFROM:-0500
TZOFFSETTO:-0600
RDATE:20261101T020000
RDATE:20271107T020000
END:STANDARD
BEGIN:DAYLIGHT
TZNAME:CDT
DTSTART:20260308T020000
TZOFFSETFROM:-0600
TZOFFSETTO:-0500
RDATE:20270314T020000
END:DAYLIGHT
END:VTIMEZONE
BEGIN:VEVENT
UID:17bc0041-5054-4c2c-aa4f-f918487bd650
DTSTAMP:20260419T142327Z
DESCRIPTION:Low-impact exercise classes.
DTSTART;TZID=America/Chicago:20260529T103000
DTEND;TZID=America/Chicago:20260529T113000
LOCATION:Kindred City Hall
SUMMARY:Kindred Bone Builders
END:VEVENT
END:VCALENDAR
