BEGIN:VCALENDAR
VERSION:2.0
PRODID:-//communityofcarend.com//NONSGML kigkonsult.se iCalcreator 2.30.10/
 /
CALSCALE:GREGORIAN
METHOD:PUBLISH
UID:7ccdd5a6-c7c9-405a-810c-3f9d2c5854b5
X-WR-CALDESC:Bone Builder Exercise Class
X-WR-RELCALID:d6e85add1bb3ccf86a8563e82e6b5ce7
X-WR-TIMEZONE:America/Chicago
BEGIN:VTIMEZONE
TZID:America/Chicago
BEGIN:STANDARD
TZNAME:CST
DTSTART:20251102T020000
TZOFFSETFROM:-0500
TZOFFSETTO:-0600
RDATE:20261101T020000
RDATE:20271107T020000
END:STANDARD
BEGIN:DAYLIGHT
TZNAME:CDT
DTSTART:20260308T020000
TZOFFSETFROM:-0600
TZOFFSETTO:-0500
RDATE:20270314T020000
END:DAYLIGHT
END:VTIMEZONE
BEGIN:VEVENT
UID:13bfb8ad-713e-4a3b-a532-019c2351d2a0
DTSTAMP:20260419T142922Z
DESCRIPTION:Bone Builder Exercise Class
DTSTART;TZID=America/Chicago:20260518T100000
DTEND;TZID=America/Chicago:20260518T110000
LOCATION:Horace Senior Center
SUMMARY:Horace Bone Builders
END:VEVENT
END:VCALENDAR
