BEGIN:VCALENDAR
VERSION:2.0
PRODID:-//communityofcarend.com//NONSGML kigkonsult.se iCalcreator 2.30.10/
 /
CALSCALE:GREGORIAN
METHOD:PUBLISH
UID:95b2b54a-57a2-4ced-834e-e86b78b9f734
X-WR-CALDESC:Low-impact exercise classes.
X-WR-RELCALID:d22ec6d7d6473ac5fd6ffe995da92c4e
X-WR-TIMEZONE:America/Chicago
BEGIN:VTIMEZONE
TZID:America/Chicago
BEGIN:STANDARD
TZNAME:CST
DTSTART:20251102T020000
TZOFFSETFROM:-0500
TZOFFSETTO:-0600
RDATE:20261101T020000
RDATE:20271107T020000
END:STANDARD
BEGIN:DAYLIGHT
TZNAME:CDT
DTSTART:20260308T020000
TZOFFSETFROM:-0600
TZOFFSETTO:-0500
RDATE:20270314T020000
END:DAYLIGHT
END:VTIMEZONE
BEGIN:VEVENT
UID:ca85e0b8-676b-4bb5-b58b-831cc6fa8da6
DTSTAMP:20260419T142456Z
DESCRIPTION:Low-impact exercise classes.
DTSTART;TZID=America/Chicago:20260515T103000
DTEND;TZID=America/Chicago:20260515T113000
LOCATION:Kindred City Hall
SUMMARY:Kindred Bone Builders
END:VEVENT
END:VCALENDAR
