BEGIN:VCALENDAR
VERSION:2.0
PRODID:-//communityofcarend.com//NONSGML kigkonsult.se iCalcreator 2.30.10/
 /
CALSCALE:GREGORIAN
METHOD:PUBLISH
UID:929a52ac-4394-44a7-91a0-ccce5a67c7c2
X-WR-CALDESC:Low impact exercise class
X-WR-RELCALID:e9fd069a7a52030d842f09e788261f82
X-WR-TIMEZONE:America/Chicago
BEGIN:VTIMEZONE
TZID:America/Chicago
BEGIN:STANDARD
TZNAME:CST
DTSTART:20251102T020000
TZOFFSETFROM:-0500
TZOFFSETTO:-0600
RDATE:20261101T020000
RDATE:20271107T020000
END:STANDARD
BEGIN:DAYLIGHT
TZNAME:CDT
DTSTART:20260308T020000
TZOFFSETFROM:-0600
TZOFFSETTO:-0500
RDATE:20270314T020000
END:DAYLIGHT
END:VTIMEZONE
BEGIN:VEVENT
UID:f22ae35f-0997-43d0-8ae5-22be317fa5ec
DTSTAMP:20260419T142455Z
DESCRIPTION:Low impact exercise class
DTSTART;TZID=America/Chicago:20260511T103000
DTEND;TZID=America/Chicago:20260511T113000
LOCATION:Kindred City Hall
SUMMARY:Kindred Bone Builders
END:VEVENT
END:VCALENDAR
