BEGIN:VCALENDAR
VERSION:2.0
PRODID:-//communityofcarend.com//NONSGML kigkonsult.se iCalcreator 2.30.10/
 /
CALSCALE:GREGORIAN
METHOD:PUBLISH
UID:83af2359-80a2-4280-b305-2c9346831044
X-WR-CALDESC:Low-impact exercise classes.
X-WR-RELCALID:d9666ef0b0ff6930595c730e28b05d6f
X-WR-TIMEZONE:America/Chicago
BEGIN:VTIMEZONE
TZID:America/Chicago
BEGIN:STANDARD
TZNAME:CST
DTSTART:20251102T020000
TZOFFSETFROM:-0500
TZOFFSETTO:-0600
RDATE:20261101T020000
RDATE:20271107T020000
END:STANDARD
BEGIN:DAYLIGHT
TZNAME:CDT
DTSTART:20260308T020000
TZOFFSETFROM:-0600
TZOFFSETTO:-0500
RDATE:20270314T020000
END:DAYLIGHT
END:VTIMEZONE
BEGIN:VEVENT
UID:61a9e6e2-4909-4740-ad50-35010539388f
DTSTAMP:20260419T142326Z
DESCRIPTION:Low-impact exercise classes.
DTSTART;TZID=America/Chicago:20260508T103000
DTEND;TZID=America/Chicago:20260508T113000
LOCATION:Kindred City Hall
SUMMARY:Kindred Bone Builders
END:VEVENT
END:VCALENDAR
