BEGIN:VCALENDAR
VERSION:2.0
PRODID:-//communityofcarend.com//NONSGML kigkonsult.se iCalcreator 2.30.10/
 /
CALSCALE:GREGORIAN
METHOD:PUBLISH
UID:558d8fd5-c717-4f17-aebe-50f86b499b72
X-WR-CALDESC:Low impact exercise class
X-WR-RELCALID:6973e5acc6e839cb5a1b2d24e4401b78
X-WR-TIMEZONE:America/Chicago
BEGIN:VTIMEZONE
TZID:America/Chicago
BEGIN:STANDARD
TZNAME:CST
DTSTART:20251102T020000
TZOFFSETFROM:-0500
TZOFFSETTO:-0600
RDATE:20261101T020000
END:STANDARD
BEGIN:DAYLIGHT
TZNAME:CDT
DTSTART:20260308T020000
TZOFFSETFROM:-0600
TZOFFSETTO:-0500
RDATE:20270314T020000
END:DAYLIGHT
END:VTIMEZONE
BEGIN:VEVENT
UID:5a158613-bb48-4565-9696-7d885bbd7fa8
DTSTAMP:20260419T142450Z
DESCRIPTION:Low impact exercise class
DTSTART;TZID=America/Chicago:20260504T103000
DTEND;TZID=America/Chicago:20260504T113000
LOCATION:Kindred City Hall
SUMMARY:Kindred Bone Builders
END:VEVENT
END:VCALENDAR
