BEGIN:VCALENDAR
VERSION:2.0
PRODID:-//communityofcarend.com//NONSGML kigkonsult.se iCalcreator 2.30.10/
 /
CALSCALE:GREGORIAN
METHOD:PUBLISH
UID:bf64b3c9-0fb8-476c-b9c3-779f901a6d24
X-WR-CALDESC:Low-impact exercise classes.
X-WR-RELCALID:023a1a53cfd80f0c4944da7f36871d19
X-WR-TIMEZONE:America/Chicago
BEGIN:VTIMEZONE
TZID:America/Chicago
BEGIN:STANDARD
TZNAME:CST
DTSTART:20251102T020000
TZOFFSETFROM:-0500
TZOFFSETTO:-0600
RDATE:20261101T020000
END:STANDARD
BEGIN:DAYLIGHT
TZNAME:CDT
DTSTART:20260308T020000
TZOFFSETFROM:-0600
TZOFFSETTO:-0500
RDATE:20270314T020000
END:DAYLIGHT
END:VTIMEZONE
BEGIN:VEVENT
UID:e5020eb7-b18b-49fe-9b6c-ea3499e882cb
DTSTAMP:20260419T142144Z
DESCRIPTION:Low-impact exercise classes.
DTSTART;TZID=America/Chicago:20260501T103000
DTEND;TZID=America/Chicago:20260501T113000
LOCATION:Kindred City Hall
SUMMARY:Kindred Bone Builders
END:VEVENT
END:VCALENDAR
