BEGIN:VCALENDAR
VERSION:2.0
PRODID:-//communityofcarend.com//NONSGML kigkonsult.se iCalcreator 2.30.10/
 /
CALSCALE:GREGORIAN
METHOD:PUBLISH
UID:e220dddd-935d-4f53-b9c6-6a5f593a1c4f
X-WR-CALDESC:Low impact exercise class
X-WR-RELCALID:0a6f7e9f58651b027689dc5b44b234ff
X-WR-TIMEZONE:America/Chicago
BEGIN:VTIMEZONE
TZID:America/Chicago
BEGIN:STANDARD
TZNAME:CST
DTSTART:20251102T020000
TZOFFSETFROM:-0500
TZOFFSETTO:-0600
RDATE:20261101T020000
END:STANDARD
BEGIN:DAYLIGHT
TZNAME:CDT
DTSTART:20260308T020000
TZOFFSETFROM:-0600
TZOFFSETTO:-0500
RDATE:20270314T020000
END:DAYLIGHT
END:VTIMEZONE
BEGIN:VEVENT
UID:eeecbaea-3372-4c1d-b29b-083eb8c18a76
DTSTAMP:20260419T124841Z
DESCRIPTION:Low impact exercise class
DTSTART;TZID=America/Chicago:20260427T103000
DTEND;TZID=America/Chicago:20260427T113000
LOCATION:Kindred City Hall
SUMMARY:Kindred Bone Builders
END:VEVENT
END:VCALENDAR
