BEGIN:VCALENDAR
VERSION:2.0
PRODID:-//communityofcarend.com//NONSGML kigkonsult.se iCalcreator 2.30.10/
 /
CALSCALE:GREGORIAN
METHOD:PUBLISH
UID:3e0b2474-e98f-4728-9f96-26e9ef545ff5
X-WR-CALDESC:
X-WR-RELCALID:9be835db726d2727cf11259d1b73eab0
X-WR-TIMEZONE:America/Chicago
BEGIN:VTIMEZONE
TZID:America/Chicago
BEGIN:STANDARD
TZNAME:CST
DTSTART:20251102T020000
TZOFFSETFROM:-0500
TZOFFSETTO:-0600
RDATE:20261101T020000
END:STANDARD
BEGIN:DAYLIGHT
TZNAME:CDT
DTSTART:20260308T020000
TZOFFSETFROM:-0600
TZOFFSETTO:-0500
RDATE:20270314T020000
END:DAYLIGHT
END:VTIMEZONE
BEGIN:VEVENT
UID:bddae4ed-c13d-4c9b-b533-c6eff5ce3801
DTSTAMP:20260419T124642Z
DESCRIPTION:
DTSTART;TZID=America/Chicago:20260427T100000
DTEND;TZID=America/Chicago:20260427T110000
LOCATION:Hunter Insurance  Building
SUMMARY:Hunter Bone Builders
END:VEVENT
END:VCALENDAR
