BEGIN:VCALENDAR
VERSION:2.0
PRODID:-//communityofcarend.com//NONSGML kigkonsult.se iCalcreator 2.30.10/
 /
CALSCALE:GREGORIAN
METHOD:PUBLISH
UID:d89e5bbe-28bb-44e6-a81b-fe684e18f2b6
X-WR-CALDESC:Low-impact exercise classes.
X-WR-RELCALID:cc12ab7ebfe6731287b9b331ec4d30ed
X-WR-TIMEZONE:America/Chicago
BEGIN:VTIMEZONE
TZID:America/Chicago
BEGIN:STANDARD
TZNAME:CST
DTSTART:20251102T020000
TZOFFSETFROM:-0500
TZOFFSETTO:-0600
RDATE:20261101T020000
END:STANDARD
BEGIN:DAYLIGHT
TZNAME:CDT
DTSTART:20260308T020000
TZOFFSETFROM:-0600
TZOFFSETTO:-0500
RDATE:20270314T020000
END:DAYLIGHT
END:VTIMEZONE
BEGIN:VEVENT
UID:e98439fc-3db2-419d-a5b0-903aaa107e51
DTSTAMP:20260419T124902Z
DESCRIPTION:Low-impact exercise classes.
DTSTART;TZID=America/Chicago:20260417T103000
DTEND;TZID=America/Chicago:20260417T113000
LOCATION:Kindred City Hall
SUMMARY:Kindred Bone Builders
END:VEVENT
END:VCALENDAR
