BEGIN:VCALENDAR
VERSION:2.0
PRODID:-//communityofcarend.com//NONSGML kigkonsult.se iCalcreator 2.30.10/
 /
CALSCALE:GREGORIAN
METHOD:PUBLISH
UID:3567b5ed-03b3-478e-85c3-486fcf9a6b21
X-WR-CALDESC:
X-WR-RELCALID:0915a68bc7b75c8467058d84932f3ddd
X-WR-TIMEZONE:America/Chicago
BEGIN:VTIMEZONE
TZID:America/Chicago
BEGIN:STANDARD
TZNAME:CST
DTSTART:20251102T020000
TZOFFSETFROM:-0500
TZOFFSETTO:-0600
RDATE:20261101T020000
END:STANDARD
BEGIN:DAYLIGHT
TZNAME:CDT
DTSTART:20260308T020000
TZOFFSETFROM:-0600
TZOFFSETTO:-0500
RDATE:20270314T020000
END:DAYLIGHT
END:VTIMEZONE
BEGIN:VEVENT
UID:1d7c6718-b2f3-41ef-9cb5-ff086d8f3ab2
DTSTAMP:20260419T125058Z
DESCRIPTION:
DTSTART;TZID=America/Chicago:20260402T140000
DTEND;TZID=America/Chicago:20260402T150000
LOCATION:Casselton City Hall
SUMMARY:Casselton Bone Builders
END:VEVENT
END:VCALENDAR
