BEGIN:VCALENDAR
VERSION:2.0
PRODID:-//communityofcarend.com//NONSGML kigkonsult.se iCalcreator 2.30.10/
 /
CALSCALE:GREGORIAN
METHOD:PUBLISH
UID:4fb54f1d-4810-4516-a3cb-dc72add5ffca
X-WR-CALDESC:Low impact exercise class
X-WR-RELCALID:652d497dbd66cd9843a42bb671b9f62b
X-WR-TIMEZONE:America/Chicago
BEGIN:VTIMEZONE
TZID:America/Chicago
BEGIN:STANDARD
TZNAME:CST
DTSTART:20251102T020000
TZOFFSETFROM:-0500
TZOFFSETTO:-0600
RDATE:20261101T020000
END:STANDARD
BEGIN:DAYLIGHT
TZNAME:CDT
DTSTART:20260308T020000
TZOFFSETFROM:-0600
TZOFFSETTO:-0500
RDATE:20270314T020000
END:DAYLIGHT
END:VTIMEZONE
BEGIN:VEVENT
UID:6e1bbdd7-6572-4e7a-8382-8f128c1c2465
DTSTAMP:20260419T142311Z
DESCRIPTION:Low impact exercise class
DTSTART;TZID=America/Chicago:20260330T103000
DTEND;TZID=America/Chicago:20260330T113000
LOCATION:Kindred City Hall
SUMMARY:Kindred Bone Builders
END:VEVENT
END:VCALENDAR
