BEGIN:VCALENDAR
VERSION:2.0
PRODID:-//communityofcarend.com//NONSGML kigkonsult.se iCalcreator 2.30.10/
 /
CALSCALE:GREGORIAN
METHOD:PUBLISH
UID:81b64fdb-2d18-4466-bf4c-81d271260aac
X-WR-CALDESC:Low impact exercise class
X-WR-RELCALID:31b74e96a0d8b6a844c9a36c9bad5408
X-WR-TIMEZONE:America/Chicago
BEGIN:VTIMEZONE
TZID:America/Chicago
BEGIN:STANDARD
TZNAME:CST
DTSTART:20251102T020000
TZOFFSETFROM:-0500
TZOFFSETTO:-0600
RDATE:20261101T020000
END:STANDARD
BEGIN:DAYLIGHT
TZNAME:CDT
DTSTART:20260308T020000
TZOFFSETFROM:-0600
TZOFFSETTO:-0500
RDATE:20270314T020000
END:DAYLIGHT
END:VTIMEZONE
BEGIN:VEVENT
UID:79b180ae-9606-4c57-9671-2b113d85a070
DTSTAMP:20260419T142326Z
DESCRIPTION:Low impact exercise class
DTSTART;TZID=America/Chicago:20260323T103000
DTEND;TZID=America/Chicago:20260323T113000
LOCATION:Kindred City Hall
SUMMARY:Kindred Bone Builders
END:VEVENT
END:VCALENDAR
