BEGIN:VCALENDAR
VERSION:2.0
PRODID:-//communityofcarend.com//NONSGML kigkonsult.se iCalcreator 2.30.10/
 /
CALSCALE:GREGORIAN
METHOD:PUBLISH
UID:3ae35f84-5b38-4745-a5a9-b94704f1ea78
X-WR-CALDESC:
X-WR-RELCALID:63b931165d136c64fc41fbff22485cf3
X-WR-TIMEZONE:America/Chicago
BEGIN:VTIMEZONE
TZID:America/Chicago
BEGIN:STANDARD
TZNAME:CST
DTSTART:20251102T020000
TZOFFSETFROM:-0500
TZOFFSETTO:-0600
RDATE:20261101T020000
END:STANDARD
BEGIN:DAYLIGHT
TZNAME:CDT
DTSTART:20260308T020000
TZOFFSETFROM:-0600
TZOFFSETTO:-0500
RDATE:20270314T020000
END:DAYLIGHT
END:VTIMEZONE
BEGIN:VEVENT
UID:7ef2076b-28e9-404b-807a-df677ca6588a
DTSTAMP:20260419T142928Z
DESCRIPTION:
DTSTART;TZID=America/Chicago:20260319T093000
DTEND;TZID=America/Chicago:20260319T103000
LOCATION:Davenport School
SUMMARY:Davenport Bone Builders
END:VEVENT
END:VCALENDAR
