BEGIN:VCALENDAR
VERSION:2.0
PRODID:-//communityofcarend.com//NONSGML kigkonsult.se iCalcreator 2.30.10/
 /
CALSCALE:GREGORIAN
METHOD:PUBLISH
UID:20bf6e4e-873e-4d3a-bdf2-d2271b4c28a0
X-WR-CALDESC:Low impact exercise class
X-WR-RELCALID:6415903394492a83e892538c436fb1dd
X-WR-TIMEZONE:America/Chicago
BEGIN:VTIMEZONE
TZID:America/Chicago
BEGIN:STANDARD
TZNAME:CST
DTSTART:20251102T020000
TZOFFSETFROM:-0500
TZOFFSETTO:-0600
RDATE:20261101T020000
END:STANDARD
BEGIN:DAYLIGHT
TZNAME:CDT
DTSTART:20250309T020000
TZOFFSETFROM:-0600
TZOFFSETTO:-0500
RDATE:20260308T020000
RDATE:20270314T020000
END:DAYLIGHT
END:VTIMEZONE
BEGIN:VEVENT
UID:21da2ba7-16ed-48f6-9c99-60247770ea57
DTSTAMP:20260419T142450Z
DESCRIPTION:Low impact exercise class
DTSTART;TZID=America/Chicago:20260309T103000
DTEND;TZID=America/Chicago:20260309T113000
LOCATION:Kindred City Hall
SUMMARY:Kindred Bone Builders
END:VEVENT
END:VCALENDAR
