BEGIN:VCALENDAR
VERSION:2.0
PRODID:-//communityofcarend.com//NONSGML kigkonsult.se iCalcreator 2.30.10/
 /
CALSCALE:GREGORIAN
METHOD:PUBLISH
UID:e6c9d65f-d23d-4860-86a8-6ed615be2bce
X-WR-CALDESC:Low impact exercise class
X-WR-RELCALID:c0c00eb525dcb9565aedd494dcf3128f
X-WR-TIMEZONE:America/Chicago
BEGIN:VTIMEZONE
TZID:America/Chicago
BEGIN:STANDARD
TZNAME:CST
DTSTART:20251102T020000
TZOFFSETFROM:-0500
TZOFFSETTO:-0600
RDATE:20261101T020000
END:STANDARD
BEGIN:DAYLIGHT
TZNAME:CDT
DTSTART:20250309T020000
TZOFFSETFROM:-0600
TZOFFSETTO:-0500
RDATE:20260308T020000
RDATE:20270314T020000
END:DAYLIGHT
END:VTIMEZONE
BEGIN:VEVENT
UID:a5e1e98c-250b-4238-a5d6-b993cfc545c9
DTSTAMP:20260419T142420Z
DESCRIPTION:Low impact exercise class
DTSTART;TZID=America/Chicago:20260302T103000
DTEND;TZID=America/Chicago:20260302T113000
LOCATION:Kindred City Hall
SUMMARY:Kindred Bone Builders
END:VEVENT
END:VCALENDAR
