BEGIN:VCALENDAR
VERSION:2.0
PRODID:-//communityofcarend.com//NONSGML kigkonsult.se iCalcreator 2.30.10/
 /
CALSCALE:GREGORIAN
METHOD:PUBLISH
UID:55e4b3a4-e098-4516-908a-cc9102401089
X-WR-CALDESC:Low-impact exercise classes.
X-WR-RELCALID:1ce6c88c95484e76e9dde49a9f4d061b
X-WR-TIMEZONE:America/Chicago
BEGIN:VTIMEZONE
TZID:America/Chicago
BEGIN:STANDARD
TZNAME:CST
DTSTART:20251102T020000
TZOFFSETFROM:-0500
TZOFFSETTO:-0600
RDATE:20261101T020000
END:STANDARD
BEGIN:DAYLIGHT
TZNAME:CDT
DTSTART:20250309T020000
TZOFFSETFROM:-0600
TZOFFSETTO:-0500
RDATE:20260308T020000
RDATE:20270314T020000
END:DAYLIGHT
END:VTIMEZONE
BEGIN:VEVENT
UID:acae3009-8f31-4371-9611-8e9d0006d97c
DTSTAMP:20260419T160713Z
DESCRIPTION:Low-impact exercise classes.
DTSTART;TZID=America/Chicago:20260220T103000
DTEND;TZID=America/Chicago:20260220T113000
LOCATION:Kindred City Hall
SUMMARY:Kindred Bone Builders
END:VEVENT
END:VCALENDAR
