BEGIN:VCALENDAR
VERSION:2.0
PRODID:-//communityofcarend.com//NONSGML kigkonsult.se iCalcreator 2.30.10/
 /
CALSCALE:GREGORIAN
METHOD:PUBLISH
UID:1440aa28-2363-41f5-9556-84f7db71996c
X-WR-CALDESC:
X-WR-RELCALID:141220cc6524d04e9cc4983819f1870a
X-WR-TIMEZONE:America/Chicago
BEGIN:VTIMEZONE
TZID:America/Chicago
BEGIN:STANDARD
TZNAME:CST
DTSTART:20251102T020000
TZOFFSETFROM:-0500
TZOFFSETTO:-0600
RDATE:20261101T020000
END:STANDARD
BEGIN:DAYLIGHT
TZNAME:CDT
DTSTART:20250309T020000
TZOFFSETFROM:-0600
TZOFFSETTO:-0500
RDATE:20260308T020000
RDATE:20270314T020000
END:DAYLIGHT
END:VTIMEZONE
BEGIN:VEVENT
UID:2fb781a8-b3ff-4647-99b0-e7790f6ee156
DTSTAMP:20260419T155345Z
DESCRIPTION:
DTSTART;TZID=America/Chicago:20260219T094500
DTEND;TZID=America/Chicago:20260219T104500
LOCATION:Arthur United Methodist Church
SUMMARY:Arthur Bone Builders
END:VEVENT
END:VCALENDAR
