BEGIN:VCALENDAR
VERSION:2.0
PRODID:-//communityofcarend.com//NONSGML kigkonsult.se iCalcreator 2.30.10/
 /
CALSCALE:GREGORIAN
METHOD:PUBLISH
UID:871c16dc-34aa-4d15-b07c-228822e2cc1a
X-WR-CALDESC:Bone Builder Exercise Class
X-WR-RELCALID:fbb30a3921e0e9531b33792807fa6681
X-WR-TIMEZONE:America/Chicago
BEGIN:VTIMEZONE
TZID:America/Chicago
BEGIN:STANDARD
TZNAME:CST
DTSTART:20251102T020000
TZOFFSETFROM:-0500
TZOFFSETTO:-0600
RDATE:20261101T020000
END:STANDARD
BEGIN:DAYLIGHT
TZNAME:CDT
DTSTART:20250309T020000
TZOFFSETFROM:-0600
TZOFFSETTO:-0500
RDATE:20260308T020000
RDATE:20270314T020000
END:DAYLIGHT
END:VTIMEZONE
BEGIN:VEVENT
UID:ed0f828d-a8ca-472c-909a-5ffa59dbbc2a
DTSTAMP:20260419T160958Z
DESCRIPTION:Bone Builder Exercise Class
DTSTART;TZID=America/Chicago:20260216T100000
DTEND;TZID=America/Chicago:20260216T110000
LOCATION:Horace Senior Center
SUMMARY:Horace Bone Builders
END:VEVENT
END:VCALENDAR
