BEGIN:VCALENDAR
VERSION:2.0
PRODID:-//communityofcarend.com//NONSGML kigkonsult.se iCalcreator 2.30.10/
 /
CALSCALE:GREGORIAN
METHOD:PUBLISH
UID:da316e9a-28af-48fe-8c81-24c7da5cabab
X-WR-CALDESC:Low-impact exercise classes.
X-WR-RELCALID:4aa70997e6e13e4f6c2ebc9157b0076c
X-WR-TIMEZONE:America/Chicago
BEGIN:VTIMEZONE
TZID:America/Chicago
BEGIN:STANDARD
TZNAME:CST
DTSTART:20251102T020000
TZOFFSETFROM:-0500
TZOFFSETTO:-0600
RDATE:20261101T020000
END:STANDARD
BEGIN:DAYLIGHT
TZNAME:CDT
DTSTART:20250309T020000
TZOFFSETFROM:-0600
TZOFFSETTO:-0500
RDATE:20260308T020000
RDATE:20270314T020000
END:DAYLIGHT
END:VTIMEZONE
BEGIN:VEVENT
UID:976ae083-e419-4c16-9148-52b620046fd6
DTSTAMP:20260419T160112Z
DESCRIPTION:Low-impact exercise classes.
DTSTART;TZID=America/Chicago:20260213T103000
DTEND;TZID=America/Chicago:20260213T113000
LOCATION:Kindred City Hall
SUMMARY:Kindred Bone Builders
END:VEVENT
END:VCALENDAR
