BEGIN:VCALENDAR
VERSION:2.0
PRODID:-//communityofcarend.com//NONSGML kigkonsult.se iCalcreator 2.30.10/
 /
CALSCALE:GREGORIAN
METHOD:PUBLISH
UID:88063183-e0ea-47d1-a4fb-c5f36fcc1c56
X-WR-CALDESC:Low-impact exercise classes.
X-WR-RELCALID:cb35e4ccf20f159ed2d38eb35b9ae584
X-WR-TIMEZONE:America/Chicago
BEGIN:VTIMEZONE
TZID:America/Chicago
BEGIN:STANDARD
TZNAME:CST
DTSTART:20251102T020000
TZOFFSETFROM:-0500
TZOFFSETTO:-0600
RDATE:20261101T020000
END:STANDARD
BEGIN:DAYLIGHT
TZNAME:CDT
DTSTART:20250309T020000
TZOFFSETFROM:-0600
TZOFFSETTO:-0500
RDATE:20260308T020000
RDATE:20270314T020000
END:DAYLIGHT
END:VTIMEZONE
BEGIN:VEVENT
UID:a2e3de7f-2be9-4a3c-9d50-f1722c63662b
DTSTAMP:20260419T160845Z
DESCRIPTION:Low-impact exercise classes.
DTSTART;TZID=America/Chicago:20260206T103000
DTEND;TZID=America/Chicago:20260206T113000
LOCATION:Kindred City Hall
SUMMARY:Kindred Bone Builders
END:VEVENT
END:VCALENDAR
