BEGIN:VCALENDAR
VERSION:2.0
PRODID:-//communityofcarend.com//NONSGML kigkonsult.se iCalcreator 2.30.10/
 /
CALSCALE:GREGORIAN
METHOD:PUBLISH
UID:211417ea-1dff-4377-9c95-8c87adaaaf63
X-WR-CALDESC:Low impact exercise class
X-WR-RELCALID:530083bcedc8f3bc4a7721eb3f6ddc03
X-WR-TIMEZONE:America/Chicago
BEGIN:VTIMEZONE
TZID:America/Chicago
BEGIN:STANDARD
TZNAME:CST
DTSTART:20251102T020000
TZOFFSETFROM:-0500
TZOFFSETTO:-0600
RDATE:20261101T020000
END:STANDARD
BEGIN:DAYLIGHT
TZNAME:CDT
DTSTART:20250309T020000
TZOFFSETFROM:-0600
TZOFFSETTO:-0500
RDATE:20260308T020000
RDATE:20270314T020000
END:DAYLIGHT
END:VTIMEZONE
BEGIN:VEVENT
UID:74e79832-b0f9-4007-9501-4a50f854bc02
DTSTAMP:20260419T173315Z
DESCRIPTION:Low impact exercise class
DTSTART;TZID=America/Chicago:20260126T103000
DTEND;TZID=America/Chicago:20260126T113000
LOCATION:Kindred City Hall
SUMMARY:Kindred Bone Builders
END:VEVENT
END:VCALENDAR
