BEGIN:VCALENDAR
VERSION:2.0
PRODID:-//communityofcarend.com//NONSGML kigkonsult.se iCalcreator 2.30.10/
 /
CALSCALE:GREGORIAN
METHOD:PUBLISH
UID:d80e2b6a-fc4a-4d7d-bd9e-2d7ccd9713ad
X-WR-CALDESC:Low-impact exercise classes.
X-WR-RELCALID:14a0ef4a548b92972dae8a2f02b6c5a4
X-WR-TIMEZONE:America/Chicago
BEGIN:VTIMEZONE
TZID:America/Chicago
BEGIN:STANDARD
TZNAME:CST
DTSTART:20251102T020000
TZOFFSETFROM:-0500
TZOFFSETTO:-0600
RDATE:20261101T020000
END:STANDARD
BEGIN:DAYLIGHT
TZNAME:CDT
DTSTART:20250309T020000
TZOFFSETFROM:-0600
TZOFFSETTO:-0500
RDATE:20260308T020000
RDATE:20270314T020000
END:DAYLIGHT
END:VTIMEZONE
BEGIN:VEVENT
UID:16d34974-a94b-4a2b-89c1-88996f0eacfa
DTSTAMP:20260419T173254Z
DESCRIPTION:Low-impact exercise classes.
DTSTART;TZID=America/Chicago:20260123T103000
DTEND;TZID=America/Chicago:20260123T113000
LOCATION:Kindred City Hall
SUMMARY:Kindred Bone Builders
END:VEVENT
END:VCALENDAR
