BEGIN:VCALENDAR
VERSION:2.0
PRODID:-//communityofcarend.com//NONSGML kigkonsult.se iCalcreator 2.30.10/
 /
CALSCALE:GREGORIAN
METHOD:PUBLISH
UID:0f6b8aa2-5378-49f5-9d43-7dcc145e9542
X-WR-CALDESC:Low impact exercise class
X-WR-RELCALID:17a4da9c91255a3ca205e640135d1fb9
X-WR-TIMEZONE:America/Chicago
BEGIN:VTIMEZONE
TZID:America/Chicago
BEGIN:STANDARD
TZNAME:CST
DTSTART:20251102T020000
TZOFFSETFROM:-0500
TZOFFSETTO:-0600
RDATE:20261101T020000
END:STANDARD
BEGIN:DAYLIGHT
TZNAME:CDT
DTSTART:20250309T020000
TZOFFSETFROM:-0600
TZOFFSETTO:-0500
RDATE:20260308T020000
RDATE:20270314T020000
END:DAYLIGHT
END:VTIMEZONE
BEGIN:VEVENT
UID:62fcf4dc-9bd0-4f00-bef6-7163824cf054
DTSTAMP:20260419T173247Z
DESCRIPTION:Low impact exercise class
DTSTART;TZID=America/Chicago:20260119T103000
DTEND;TZID=America/Chicago:20260119T113000
LOCATION:Kindred City Hall
SUMMARY:Kindred Bone Builders
END:VEVENT
END:VCALENDAR
