BEGIN:VCALENDAR
VERSION:2.0
PRODID:-//communityofcarend.com//NONSGML kigkonsult.se iCalcreator 2.30.10/
 /
CALSCALE:GREGORIAN
METHOD:PUBLISH
UID:9216e277-5ac6-4c9f-b59b-3e3dc4bc932b
X-WR-CALDESC:
X-WR-RELCALID:4f04ffb2e5a0c6ce6693bc0e7fa5186c
X-WR-TIMEZONE:America/Chicago
BEGIN:VTIMEZONE
TZID:America/Chicago
BEGIN:STANDARD
TZNAME:CST
DTSTART:20251102T020000
TZOFFSETFROM:-0500
TZOFFSETTO:-0600
RDATE:20261101T020000
END:STANDARD
BEGIN:DAYLIGHT
TZNAME:CDT
DTSTART:20250309T020000
TZOFFSETFROM:-0600
TZOFFSETTO:-0500
RDATE:20260308T020000
RDATE:20270314T020000
END:DAYLIGHT
END:VTIMEZONE
BEGIN:VEVENT
UID:2ca8c65b-1581-4ac1-82dc-2ac4f4d39877
DTSTAMP:20260419T174009Z
DESCRIPTION:
DTSTART;TZID=America/Chicago:20260105T093000
DTEND;TZID=America/Chicago:20260105T103000
LOCATION:Davenport School
SUMMARY:Davenport Bone Builders
END:VEVENT
END:VCALENDAR
