BEGIN:VCALENDAR
VERSION:2.0
PRODID:-//communityofcarend.com//NONSGML kigkonsult.se iCalcreator 2.30.10/
 /
CALSCALE:GREGORIAN
METHOD:PUBLISH
UID:84c205cd-8c50-4544-a738-05de1395203e
X-WR-CALDESC:
X-WR-RELCALID:3a875fefc405c6f6985d3d19d77d8749
X-WR-TIMEZONE:America/Chicago
BEGIN:VTIMEZONE
TZID:America/Chicago
BEGIN:STANDARD
TZNAME:CST
DTSTART:20251102T020000
TZOFFSETFROM:-0500
TZOFFSETTO:-0600
RDATE:20261101T020000
END:STANDARD
BEGIN:DAYLIGHT
TZNAME:CDT
DTSTART:20250309T020000
TZOFFSETFROM:-0600
TZOFFSETTO:-0500
RDATE:20260308T020000
RDATE:20270314T020000
END:DAYLIGHT
END:VTIMEZONE
BEGIN:VEVENT
UID:12b19db8-18f1-4a56-bdea-6a8987c973d8
DTSTAMP:20260419T185440Z
DESCRIPTION:
DTSTART;TZID=America/Chicago:20251202T130000
DTEND;TZID=America/Chicago:20251202T140000
LOCATION:Harwood Community Center
SUMMARY:Harwood Bone Builders
END:VEVENT
END:VCALENDAR
