BEGIN:VCALENDAR
VERSION:2.0
PRODID:-//communityofcarend.com//NONSGML kigkonsult.se iCalcreator 2.30.10/
 /
CALSCALE:GREGORIAN
METHOD:PUBLISH
UID:7817a8bd-1a76-4b87-ab31-0a0471e716ca
X-WR-CALDESC:Low-impact exercise classes.
X-WR-RELCALID:12c5622e6fa5f48fa9255c47b3b47b9d
X-WR-TIMEZONE:America/Chicago
BEGIN:VTIMEZONE
TZID:America/Chicago
BEGIN:STANDARD
TZNAME:CST
DTSTART:20251102T020000
TZOFFSETFROM:-0500
TZOFFSETTO:-0600
RDATE:20261101T020000
END:STANDARD
BEGIN:DAYLIGHT
TZNAME:CDT
DTSTART:20250309T020000
TZOFFSETFROM:-0600
TZOFFSETTO:-0500
RDATE:20260308T020000
RDATE:20270314T020000
END:DAYLIGHT
END:VTIMEZONE
BEGIN:VEVENT
UID:5fffa6c8-f214-448c-a557-6d50acab9533
DTSTAMP:20260419T200843Z
DESCRIPTION:Low-impact exercise classes.
DTSTART;TZID=America/Chicago:20251128T103000
DTEND;TZID=America/Chicago:20251128T113000
LOCATION:Kindred City Hall
SUMMARY:Kindred Bone Builders
END:VEVENT
END:VCALENDAR
