BEGIN:VCALENDAR
VERSION:2.0
PRODID:-//communityofcarend.com//NONSGML kigkonsult.se iCalcreator 2.30.10/
 /
CALSCALE:GREGORIAN
METHOD:PUBLISH
UID:393362e0-50a8-49dd-acae-7ebb6f9d7a0f
X-WR-CALDESC:Low impact exercise class
X-WR-RELCALID:5332501b54215b89c0b8e081c7bb0351
X-WR-TIMEZONE:America/Chicago
BEGIN:VTIMEZONE
TZID:America/Chicago
BEGIN:STANDARD
TZNAME:CST
DTSTART:20251102T020000
TZOFFSETFROM:-0500
TZOFFSETTO:-0600
RDATE:20261101T020000
END:STANDARD
BEGIN:DAYLIGHT
TZNAME:CDT
DTSTART:20250309T020000
TZOFFSETFROM:-0600
TZOFFSETTO:-0500
RDATE:20260308T020000
RDATE:20270314T020000
END:DAYLIGHT
END:VTIMEZONE
BEGIN:VEVENT
UID:76da02eb-9998-4eca-a415-76c86fe5c896
DTSTAMP:20260419T200920Z
DESCRIPTION:Low impact exercise class
DTSTART;TZID=America/Chicago:20251117T103000
DTEND;TZID=America/Chicago:20251117T113000
LOCATION:Kindred City Hall
SUMMARY:Kindred Bone Builders
END:VEVENT
END:VCALENDAR
